BEGIN:VCALENDAR
VERSION:2.0
PRODID:-//wp-events-plugin.com//7.2.3.1//EN
TZID:America/New_York
X-WR-TIMEZONE:America/New_York
BEGIN:VEVENT
UID:152060@kingstonhappenings.org
DTSTART;TZID=America/New_York:20251005T120000
DTEND;TZID=America/New_York:20251005T180000
DTSTAMP:20250926T234330Z
URL:https://kingstonhappenings.org/events/2-great-causes-under-one-woof-fu
 ndraiser/
SUMMARY:2 GREAT CAUSES UNDER ONE “woof” FUNDRAISER
DESCRIPTION:Join us for  BREAST CANCER AWARENESS being it’s OCTOBER  Wh
 at better way to show support\n\nLive music\, food\, vendors\, tarot readi
 ng\, book authors\, hair tinsel\, pet costume contest\, bingo\, wear pink 
 costume contest(win $100) raffles and more to raise funds for Tina Marie D
 eCicco who has TNBC and is undergoing 6 months of chemo\, a total mastecto
 my and just lost her husband suddenly to cancer. Tina has to be out of wor
 k for about a year\n\nZara is a puppy who has kidney disease\n\n207 MAIN S
 TREET SAUGERTIES NY
CATEGORIES:@Featured,Festivals and major community events
LOCATION:Saugerties\, NY\, 1 Main St\, Saugerties\, NY\, 12401\, United Sta
 tes
GEO:42.080915;-73.944363
X-APPLE-STRUCTURED-LOCATION;VALUE=URI;X-ADDRESS=1 Main St\, Saugerties\, NY
 \, 12401\, United States;X-APPLE-RADIUS=100;X-TITLE=Saugerties\, NY:geo:42
 .080915,-73.944363
END:VEVENT
BEGIN:VTIMEZONE
TZID:America/New_York
X-LIC-LOCATION:America/New_York
BEGIN:DAYLIGHT
DTSTART:20250309T030000
TZOFFSETFROM:-0500
TZOFFSETTO:-0400
TZNAME:EDT
END:DAYLIGHT
END:VTIMEZONE
END:VCALENDAR