BEGIN:VCALENDAR
VERSION:2.0
PRODID:-//wp-events-plugin.com//7.2.3.1//EN
TZID:America/New_York
X-WR-TIMEZONE:America/New_York
BEGIN:VEVENT
UID:152203@kingstonhappenings.org
DTSTART;TZID=America/New_York:20251012T120000
DTEND;TZID=America/New_York:20251012T200000
DTSTAMP:20251012T231855Z
URL:https://kingstonhappenings.org/events/16th-annual-ulster-county-italia
 n-festival/
SUMMARY:16th Annual Ulster County Italian Festival
DESCRIPTION:\nJoin us Sunday\, Oct 12 at the Kingston Waterfront for food\,
  music\, and fireworks at the 16th Annual Ulster County Italian Festival.\
 n\n\nLove Italian food\, music\, and culture? Don’t miss the Ulster Coun
 ty Italian Festival – FREE admission\, family fun\, and fireworks at 8 P
 M!\n\n\n\n\nCelebrate Italian heritage at the Kingston Waterfront! Live mu
 sic\, authentic cuisine\, contests\, and more – all on Sunday\, Oct 12\,
  Noon–8 PM.\n\nFor details: https://ucitalianamericanfoundation.org/\n\n
 \n
ATTACH;FMTTYPE=image/jpeg:https://kingstonhappenings.org/wp-content/upload
 s/2025/10/DSC_7969-1030x686-1.jpg
CATEGORIES:@Featured,@Newsletter,Community,Festivals and major community
 events
LOCATION:Historic Kingston Waterfront\, 20 Broadway\, Kingston\, New York\,
  12401\, United States
GEO:41.91853589999999;-73.98289879999999
X-APPLE-STRUCTURED-LOCATION;VALUE=URI;X-ADDRESS=20 Broadway\, Kingston\, Ne
 w York\, 12401\, United States;X-APPLE-RADIUS=100;X-TITLE=Historic Kingsto
 n Waterfront:geo:41.91853589999999,-73.98289879999999
END:VEVENT
BEGIN:VTIMEZONE
TZID:America/New_York
X-LIC-LOCATION:America/New_York
BEGIN:DAYLIGHT
DTSTART:20250309T030000
TZOFFSETFROM:-0500
TZOFFSETTO:-0400
TZNAME:EDT
END:DAYLIGHT
END:VTIMEZONE
END:VCALENDAR