BEGIN:VCALENDAR
VERSION:2.0
PRODID:-//wp-events-plugin.com//7.2.3.1//EN
TZID:America/New_York
X-WR-TIMEZONE:America/New_York
BEGIN:VEVENT
UID:156431@kingstonhappenings.org
DTSTART;TZID=America/New_York:20260502T090000
DTEND;TZID=America/New_York:20260502T120000
DTSTAMP:20260423T180123Z
URL:https://kingstonhappenings.org/events/15th-annual-riverkeeper-sweep-ki
 ngston-point-beach/
SUMMARY:15th Annual Riverkeeper Sweep - Kingston Point Beach
DESCRIPTION:Join City of Kingston and Riverkeeper for a cleanup at King
 ston Point Beach from 9:00 am to 12:00 pm for the 15th Annual Riverkeep
 er Sweep. This is a rain or shine event.\nVolunteers will meet at Kingsto
 n Point Beach\, 50 Delaware Ave.\, Kingston NY\, under the pavilion next t
 o the beach. Advance registration is required. For more information and to
  register\, visit Riverkeeper's event page here.\nThis event is part of Ri
 verkeeper Sweep\, an annual day of service for the Hudson River where more
  than 2\,000 volunteers come together across hundreds of miles of shorelin
 e in New York City and the Hudson Valley to clean up trash\, plant trees\,
  and remove invasive plant species.\n\nOver 14 years\, Sweep volunteers ha
 ve completed 1\,463 projects and removed 396 tons of debris\, including 2\
 ,352 tires\, and planted or maintained thousands of trees and shrubs. Once
 -neglected areas have gained year-round stewards\, and rivers and creeks a
 re better for it.\n\nRead more about this event and find other volunteer s
 ites by visiting Riverkeeper.org/sweep\, using our interactive Sweep Map\,
  or checking out our list of public locations. For more information\, reac
 h out to sweep@riverkeeper.org.\n\nHave fun and help take care of the rive
 r!
ATTACH;FMTTYPE=image/jpeg:https://kingstonhappenings.org/wp-content/upload
 s/2026/04/Riverkeeper-Sweep-2025-Ossining-Sparta-Brook_7317.jpg
CATEGORIES:@Featured,Community
LOCATION:Kingston Point Beach\, 2 Delaware Ave.\, Kingston\, NY\, 12401\, U
 nited States
GEO:41.9282924;-73.96262869999998
X-APPLE-STRUCTURED-LOCATION;VALUE=URI;X-ADDRESS=2 Delaware Ave.\, Kingston\
 , NY\, 12401\, United States;X-APPLE-RADIUS=100;X-TITLE=Kingston Point Bea
 ch:geo:41.9282924,-73.96262869999998
END:VEVENT
BEGIN:VTIMEZONE
TZID:America/New_York
X-LIC-LOCATION:America/New_York
BEGIN:DAYLIGHT
DTSTART:20260308T030000
TZOFFSETFROM:-0500
TZOFFSETTO:-0400
TZNAME:EDT
END:DAYLIGHT
END:VTIMEZONE
END:VCALENDAR